BEGIN:VCALENDAR
VERSION:2.0
PRODID:-//Windham Weaponry Inc. - ECPv6.15.17.1//NONSGML v1.0//EN
CALSCALE:GREGORIAN
METHOD:PUBLISH
X-ORIGINAL-URL:https://www.windhamweaponry.com
X-WR-CALDESC:Events for Windham Weaponry Inc.
REFRESH-INTERVAL;VALUE=DURATION:PT1H
X-Robots-Tag:noindex
X-PUBLISHED-TTL:PT1H
BEGIN:VTIMEZONE
TZID:America/New_York
BEGIN:DAYLIGHT
TZOFFSETFROM:-0500
TZOFFSETTO:-0400
TZNAME:EDT
DTSTART:20230312T070000
END:DAYLIGHT
BEGIN:STANDARD
TZOFFSETFROM:-0400
TZOFFSETTO:-0500
TZNAME:EST
DTSTART:20231105T060000
END:STANDARD
BEGIN:DAYLIGHT
TZOFFSETFROM:-0500
TZOFFSETTO:-0400
TZNAME:EDT
DTSTART:20240310T070000
END:DAYLIGHT
BEGIN:STANDARD
TZOFFSETFROM:-0400
TZOFFSETTO:-0500
TZNAME:EST
DTSTART:20241103T060000
END:STANDARD
BEGIN:DAYLIGHT
TZOFFSETFROM:-0500
TZOFFSETTO:-0400
TZNAME:EDT
DTSTART:20250309T070000
END:DAYLIGHT
BEGIN:STANDARD
TZOFFSETFROM:-0400
TZOFFSETTO:-0500
TZNAME:EST
DTSTART:20251102T060000
END:STANDARD
END:VTIMEZONE
BEGIN:VEVENT
DTSTART;TZID=America/New_York:20240911T083000
DTEND;TZID=America/New_York:20240912T170000
DTSTAMP:20260425T194345
CREATED:20230623T131657Z
LAST-MODIFIED:20240228T162926Z
UID:24391-1726043400-1726160400@www.windhamweaponry.com
SUMMARY:AR-15/M16 CARBINE ARMORER’S COURSE - Crozier\, VA
DESCRIPTION:September 11-12\, 2024 \nHosted By:\nVADOC Crozier\, VA \nDownload Training Announcement_Sept 11-12 2024 \nDownload Training Application_Sept 11-12 2024 \nRegister for the course
URL:https://www.windhamweaponry.com/event/ar-15-m16-carbine-armorers-course-crozier-va-8/
LOCATION:Academy for Staff Development\, 1900 River Road West\, Crozier\, VA\, 23039\, United States
CATEGORIES:Armorer's Course
ORGANIZER;CN="Windham Weaponry":MAILTO:le@windhamweaponry.com
END:VEVENT
END:VCALENDAR