BEGIN:VCALENDAR
VERSION:2.0
PRODID:-//Windham Weaponry Inc. - ECPv6.15.17.1//NONSGML v1.0//EN
CALSCALE:GREGORIAN
METHOD:PUBLISH
X-WR-CALNAME:Windham Weaponry Inc.
X-ORIGINAL-URL:https://www.windhamweaponry.com
X-WR-CALDESC:Events for Windham Weaponry Inc.
REFRESH-INTERVAL;VALUE=DURATION:PT1H
X-Robots-Tag:noindex
X-PUBLISHED-TTL:PT1H
BEGIN:VTIMEZONE
TZID:UTC
BEGIN:STANDARD
TZOFFSETFROM:+0000
TZOFFSETTO:+0000
TZNAME:UTC
DTSTART:20210101T000000
END:STANDARD
END:VTIMEZONE
BEGIN:VTIMEZONE
TZID:America/New_York
BEGIN:DAYLIGHT
TZOFFSETFROM:-0500
TZOFFSETTO:-0400
TZNAME:EDT
DTSTART:20200308T070000
END:DAYLIGHT
BEGIN:STANDARD
TZOFFSETFROM:-0400
TZOFFSETTO:-0500
TZNAME:EST
DTSTART:20201101T060000
END:STANDARD
BEGIN:DAYLIGHT
TZOFFSETFROM:-0500
TZOFFSETTO:-0400
TZNAME:EDT
DTSTART:20210314T070000
END:DAYLIGHT
BEGIN:STANDARD
TZOFFSETFROM:-0400
TZOFFSETTO:-0500
TZNAME:EST
DTSTART:20211107T060000
END:STANDARD
BEGIN:DAYLIGHT
TZOFFSETFROM:-0500
TZOFFSETTO:-0400
TZNAME:EDT
DTSTART:20220313T070000
END:DAYLIGHT
BEGIN:STANDARD
TZOFFSETFROM:-0400
TZOFFSETTO:-0500
TZNAME:EST
DTSTART:20221106T060000
END:STANDARD
BEGIN:DAYLIGHT
TZOFFSETFROM:-0500
TZOFFSETTO:-0400
TZNAME:EDT
DTSTART:20230312T070000
END:DAYLIGHT
BEGIN:STANDARD
TZOFFSETFROM:-0400
TZOFFSETTO:-0500
TZNAME:EST
DTSTART:20231105T060000
END:STANDARD
BEGIN:DAYLIGHT
TZOFFSETFROM:-0500
TZOFFSETTO:-0400
TZNAME:EDT
DTSTART:20240310T070000
END:DAYLIGHT
BEGIN:STANDARD
TZOFFSETFROM:-0400
TZOFFSETTO:-0500
TZNAME:EST
DTSTART:20241103T060000
END:STANDARD
END:VTIMEZONE
BEGIN:VEVENT
DTSTART;TZID=UTC:20230426T083000
DTEND;TZID=UTC:20230427T170000
DTSTAMP:20260425T101338
CREATED:20221101T130413Z
LAST-MODIFIED:20230420T140011Z
UID:24253-1682497800-1682614800@www.windhamweaponry.com
SUMMARY:AR-15/M16 CARBINE ARMORER’S COURSE - Hopkinton\, MA (CLASS FULL)
DESCRIPTION:CLASS FULL \nAPRIL 26-27\, 2023 \nHosted By:\nHopkinton \, MA Police Dept \nDownload Training Announcement_Hopkinton \nDownload Training Application_Hopkinton
URL:https://www.windhamweaponry.com/event/ar-15-m16-carbine-armorers-course-hopkinton-ma/
LOCATION:Hopkinton Police Dept\, 74 Main St\, Hopkinton\, MA\, 01748\, United States
CATEGORIES:Armorer's Course
ORGANIZER;CN="Windham Weaponry":MAILTO:le@windhamweaponry.com
END:VEVENT
BEGIN:VEVENT
DTSTART;TZID=UTC:20230419T083000
DTEND;TZID=UTC:20230420T170000
DTSTAMP:20260425T101338
CREATED:20220802T134454Z
LAST-MODIFIED:20220802T134454Z
UID:24226-1681893000-1682010000@www.windhamweaponry.com
SUMMARY:AR-15/M16 CARBINE ARMORER’S COURSE - Crozier\, VA
DESCRIPTION:APRIL 19TH-20TH\, 2023 \nDownload Training-Announcement_Template-Ballistic-Edge-15 \nDownload Training-Application_Form_Ballistic-Edge-15-1
URL:https://www.windhamweaponry.com/event/ar-15-m16-carbine-armorers-course-crozier-va-4/
LOCATION:Virginia Department of Corrections\, 1900 River Road West\, Crozier\, VA\, 23039\, United States
CATEGORIES:Armorer's Course
ORGANIZER;CN="Windham Weaponry":MAILTO:le@windhamweaponry.com
END:VEVENT
BEGIN:VEVENT
DTSTART;TZID=UTC:20230411T083000
DTEND;TZID=UTC:20230412T170000
DTSTAMP:20260425T101338
CREATED:20230110T203958Z
LAST-MODIFIED:20230110T204115Z
UID:24305-1681201800-1681318800@www.windhamweaponry.com
SUMMARY:AR-15/M16 CARBINE ARMORER’S COURSE - Knoxville\, TN
DESCRIPTION:APRIL 11-12\, 2023 \nHosted By:\nKNOX COUNTY SHERIFF’S OFFICE \nDownload Training Announcement_BLANK \nDownload Training Application
URL:https://www.windhamweaponry.com/event/ar-15-m16-carbine-armorers-course-knoxville-tn/
LOCATION:KNOX COUNTY SHERIFF’S OFFICE\, 4900 Maloneyville Rd\, Knoxville\, TN\, 37918\, United States
CATEGORIES:Armorer's Course
END:VEVENT
BEGIN:VEVENT
DTSTART;TZID=UTC:20230327T083000
DTEND;TZID=UTC:20230328T170000
DTSTAMP:20260425T101338
CREATED:20220920T125943Z
LAST-MODIFIED:20230131T182125Z
UID:24247-1679905800-1680022800@www.windhamweaponry.com
SUMMARY:AR-15/M16 CARBINE ARMORER’S COURSE - Prescott\, VA (CLASS FULL)
DESCRIPTION:MARCH 27-28\, 2023 \nHosted By:\nPRESCOTT VA \nCHINO VALLEY RANGE CLASSROOM\n2178 SGT DEE BARNES WAY\, CHINO VALLEY AZ\,86323 \nDownload Training Announcement_Template Ballistic Edge_2021 (2) \nDownload Training Application_Form_Ballistic Edge (2)
URL:https://www.windhamweaponry.com/event/ar-15-m16-carbine-armorers-course-prescott-va/
LOCATION:Prescott VA\, 2178 SGT DEE BARNES WAY\, CHINO VALLEY\, AZ\, 86323\, United States
CATEGORIES:Armorer's Course
END:VEVENT
BEGIN:VEVENT
DTSTART;TZID=UTC:20230221T083000
DTEND;TZID=UTC:20230222T170000
DTSTAMP:20260425T101338
CREATED:20221129T222650Z
LAST-MODIFIED:20230110T204550Z
UID:24271-1676968200-1677085200@www.windhamweaponry.com
SUMMARY:AR-15/M16 CARBINE ARMORER’S COURSE - Liberty\, MO
DESCRIPTION:FEBRUARY 21-22\,2023 \nHosted By:\nCLAY COUNTY SO.\nLIBERTY \, MO \nDownload Training Announcement_BLANK \nDownload Training Application_BLANK
URL:https://www.windhamweaponry.com/event/ar-15-m16-carbine-armorers-course-liberty-mo/
LOCATION:CLAY COUNTY SO\, 12 S. Water Street\, Liberty\, MO\, 64068\, United States
CATEGORIES:Armorer's Course
ORGANIZER;CN="Windham Weaponry":MAILTO:le@windhamweaponry.com
END:VEVENT
BEGIN:VEVENT
DTSTART;TZID=America/New_York:20230112T083000
DTEND;TZID=America/New_York:20230113T170000
DTSTAMP:20260425T101338
CREATED:20220309T132840Z
LAST-MODIFIED:20220809T160945Z
UID:24054-1673512200-1673629200@www.windhamweaponry.com
SUMMARY:AR-15/M16 CARBINE ARMORER’S COURSE - Leavenworth\, KS
DESCRIPTION:January 12\, 13 2023 \nHosted By:\nLeavenworth County Sheriff’s Office \nDownload Training Announcement_Template Ballistic Edge_2021 (2) \nDownload Training Application_Form_Ballistic Edge (2)
URL:https://www.windhamweaponry.com/event/ar-15-m16-carbine-armorers-course-leavenworth-ks/
LOCATION:LEAVENWORTH JUSTICE CENTER TRAINING ROOM 601\, S 3RD ST\, LEAVENWORHT\, KS\, 66048\, United States
CATEGORIES:Armorer's Course
ORGANIZER;CN="Windham Weaponry":MAILTO:le@windhamweaponry.com
END:VEVENT
BEGIN:VEVENT
DTSTART;TZID=UTC:20221110T083000
DTEND;TZID=UTC:20221111T170000
DTSTAMP:20260425T101338
CREATED:20220627T144655Z
LAST-MODIFIED:20250122T055533Z
UID:24209-1668069000-1668186000@www.windhamweaponry.com
SUMMARY:AR-15/M16 CARBINE ARMORER’S COURSE - Egg Harbor\, NJ
DESCRIPTION:November 10-11\,2022 \nHosted By:\nATLANTIC COUNTY DPS\nEgg Harbor\, NJ \nDownload Training Announcement_Template Ballistic Edge_2021 (2) \nDownload Training Application_Form_Ballistic Edge (2) \n 
URL:https://www.windhamweaponry.com/event/ar-15-m16-carbine-armorers-course-egg-harbor-nj/
LOCATION:Atlantic County DPS Training Facility\, 175 Betsey Scull Rd\, Egg Harbor Twp\, NJ\, 08234\, United States
CATEGORIES:Armorer's Course
ORGANIZER;CN="Windham Weaponry":MAILTO:le@windhamweaponry.com
END:VEVENT
BEGIN:VEVENT
DTSTART;TZID=America/New_York:20221107T083000
DTEND;TZID=America/New_York:20221108T170000
DTSTAMP:20260425T101338
CREATED:20220413T134651Z
LAST-MODIFIED:20220830T141525Z
UID:24113-1667809800-1667926800@www.windhamweaponry.com
SUMMARY:AR-15/M16 CARBINE ARMORER’S COURSE - Chicopee\, MA (CLASS FULL)
DESCRIPTION:NOVEMBER 7-8\, 2022 \nHosted By:\nCHICOPEE POLICE DEPT \nDownload Training Announcement_Template Ballistic Edge_2021 (2) \nDownload Training Application_Form_Ballistic Edge (2) \nDownload Host Agency Info
URL:https://www.windhamweaponry.com/event/ar-15-m16-carbine-armorers-course-chicopee-ma/
LOCATION:CHICOPEE POLICE DEPT\, 15 Court St\, Chicopee\, MA\, 01020\, United States
CATEGORIES:Armorer's Course
ORGANIZER;CN="Windham Weaponry":MAILTO:le@windhamweaponry.com
END:VEVENT
BEGIN:VEVENT
DTSTART;TZID=America/New_York:20221103T083000
DTEND;TZID=America/New_York:20221104T170000
DTSTAMP:20260425T101338
CREATED:20220401T021125Z
LAST-MODIFIED:20220401T021125Z
UID:24106-1667464200-1667581200@www.windhamweaponry.com
SUMMARY:AR-15/M16 CARBINE ARMORER’S COURSE\, Pittsburgh\, PA
DESCRIPTION:November 3-4\, 2022 \nVeterans Affairs Pittsburgh\nSpringhill Suites 3015 Pittsburgh Mills Blvd\nTarentum\, PA 15084 \nDownload Training Announcement_Template Ballistic Edge_2021 (2) \nDownload Training Application_Form_Ballistic Edge (2)
URL:https://www.windhamweaponry.com/event/ar-15-m16-carbine-armorers-course-pittsburgh-pa/
LOCATION:Veterans Affairs Pittsburgh  PA\, Springhill Suites 3015 Pittsburgh Mills Blvd\, Tarentum\, PA\, 15084\, United States
CATEGORIES:Armorer's Course
ORGANIZER;CN="Windham Weaponry":MAILTO:le@windhamweaponry.com
END:VEVENT
BEGIN:VEVENT
DTSTART;TZID=America/New_York:20221024T083000
DTEND;TZID=America/New_York:20221025T170000
DTSTAMP:20260425T101338
CREATED:20220330T191753Z
LAST-MODIFIED:20220330T191753Z
UID:24098-1666600200-1666717200@www.windhamweaponry.com
SUMMARY:AR-15/M16 CARBINE ARMORER’S COURSE - Sioux Falls\, SD
DESCRIPTION:October 24-25\, 2022 \nHosted By:\nSioux Falls Veterans Affairs\, SD\n2501 W 22nd St\, Bldg 38 RM 107 Sioux Falls\, SD 57105 \nDownload Training Announcement_Template Ballistic Edge_2021 (2) \nDownload Training Application_Form_Ballistic Edge (2)
URL:https://www.windhamweaponry.com/event/ar-15-m16-carbine-armorers-course-sioux-falls-sd/
LOCATION:Sioux Falls Veterans Affairs\, 2501 W 22nd St\, Sioux Falls\, SD\, 57105\, United States
CATEGORIES:Armorer's Course
ORGANIZER;CN="Windham Weaponry":MAILTO:le@windhamweaponry.com
END:VEVENT
BEGIN:VEVENT
DTSTART;TZID=America/New_York:20221004T083000
DTEND;TZID=America/New_York:20221005T170000
DTSTAMP:20260425T101338
CREATED:20211015T163140Z
LAST-MODIFIED:20250118T221318Z
UID:23967-1664872200-1664989200@www.windhamweaponry.com
SUMMARY:AR-15/M16 CARBINE ARMORER’S COURSE - Grayling\, MI
DESCRIPTION:MARCH 29-30th \, 2022 \nHosted By: KIRTLAND COMMUNITY COLLEGE\nGRAYLING\, MI \nDownload Training Announcement_Template Ballistic Edge 15 \nDownload Training Application_Form_Ballistic Edge 15
URL:https://www.windhamweaponry.com/event/ar-15-m16-carbine-armorers-course-grayling-mi/
LOCATION:KIRTLAND COMMUNITY COLLEGE\, 4800 W FOUR MILE RD\, GRAYLING\, MI\, 49738\, United States
CATEGORIES:Armorer's Course
ORGANIZER;CN="Windham Weaponry":MAILTO:le@windhamweaponry.com
END:VEVENT
BEGIN:VEVENT
DTSTART;TZID=America/New_York:20220927T083000
DTEND;TZID=America/New_York:20220928T170000
DTSTAMP:20260425T101338
CREATED:20220317T151353Z
LAST-MODIFIED:20220317T151353Z
UID:24069-1664267400-1664384400@www.windhamweaponry.com
SUMMARY:AR-15/M16 CARBINE ARMORER’S COURSE - New City\, NY
DESCRIPTION:September 27-28\, 2022 \nHosted By:\nRockland County Sheriff’s Office \nDownload Training Announcement_Template Ballistic Edge_2021 (2) \nDownload Training Application_Form_Ballistic Edge (2)
URL:https://www.windhamweaponry.com/event/ar-15-m16-carbine-armorers-course-new-city-ny/
LOCATION:Rockland County Sheriff’s Office\, 55 New Hempstead Rd\, New City\, NY\, 10956\, United States
CATEGORIES:Armorer's Course
ORGANIZER;CN="Windham Weaponry":MAILTO:le@windhamweaponry.com
END:VEVENT
BEGIN:VEVENT
DTSTART;TZID=America/New_York:20220914T083000
DTEND;TZID=America/New_York:20220915T170000
DTSTAMP:20260425T101338
CREATED:20210909T152612Z
LAST-MODIFIED:20220621T201648Z
UID:23957-1663144200-1663261200@www.windhamweaponry.com
SUMMARY:AR-15/M16 CARBINE ARMORER’S COURSE - Crozier\, VA (CLASS FULL)
DESCRIPTION:SEPTEMBER 14TH-15TH\, 2022 \nHosted By: Virginia Department of Corrections\nAcademy for Staff Development\n1900 River Road West\, Crozier\, VA 23039 \nDownload Training Announcement_Template Ballistic Edge 15 \nDownload Training Application_Form_Ballistic Edge 15
URL:https://www.windhamweaponry.com/event/ar-15-m16-carbine-armorers-course-crozier-va-3/
LOCATION:Virginia Department of Corrections\, 1900 River Road West\, Crozier\, VA\, 23039\, United States
CATEGORIES:Armorer's Course
ORGANIZER;CN="Windham Weaponry":MAILTO:le@windhamweaponry.com
END:VEVENT
BEGIN:VEVENT
DTSTART;TZID=America/New_York:20220912T083000
DTEND;TZID=America/New_York:20220913T170000
DTSTAMP:20260425T101338
CREATED:20220330T192336Z
LAST-MODIFIED:20250118T215635Z
UID:24103-1662971400-1663088400@www.windhamweaponry.com
SUMMARY:AR-15/M16 CARBINE ARMORER’S COURSE - Windham\, ME (CLASS FULL)
DESCRIPTION:JUNE 14th-15th\, 2022 \nHosted By:\nWINDHAM INDOOR SHOOTING RANGE & WINDHAM WEAPONRY \nDownload Training Announcement_Template \nDownload Training Application Template
URL:https://www.windhamweaponry.com/event/ar-15-m16-carbine-armorers-course-windham-me-4/
LOCATION:Windham Indoor Shooting Range\, 999 Roosevelt Trail\, Windham\, ME\, 04062\, United States
CATEGORIES:Armorer's Course
ORGANIZER;CN="Windham Weaponry":MAILTO:le@windhamweaponry.com
END:VEVENT
BEGIN:VEVENT
DTSTART;TZID=UTC:20220907T083000
DTEND;TZID=UTC:20220908T170000
DTSTAMP:20260425T101338
CREATED:20220526T120756Z
LAST-MODIFIED:20220801T175044Z
UID:24195-1662539400-1662656400@www.windhamweaponry.com
SUMMARY:AR-15/M16 CARBINE ARMORER’S COURSE - Jackson\, MS
DESCRIPTION:SEPTEMBER 7th-8th 2022. \nHosted By:\nJACKSON\, MS POLICE DEPT \nDownload Training Announcement_Template Ballistic Edge_2021 (2) \nDownload Training Application_Form_Ballistic Edge (2)
URL:https://www.windhamweaponry.com/event/ar-15-m16-carbine-armorers-course-jackson-ms/
LOCATION:Jackson PD Training Acamedy (MS)\, 3000 St Charles Street\, Jackson\, MS\, 39209\, United States
CATEGORIES:Armorer's Course
ORGANIZER;CN="Windham Weaponry":MAILTO:le@windhamweaponry.com
END:VEVENT
BEGIN:VEVENT
DTSTART;TZID=UTC:20220725T083000
DTEND;TZID=UTC:20220726T170000
DTSTAMP:20260425T101338
CREATED:20220614T135838Z
LAST-MODIFIED:20220614T135838Z
UID:24203-1658737800-1658854800@www.windhamweaponry.com
SUMMARY:AR-15/M16 CARBINE ARMORER’S COURSE - Dyersburg\, TN
DESCRIPTION:JULY 25-26 2022 \nHosted By: DYERSBURG POLICE DEPT\nDYERSBURG\, TN \nDownload Training Announcement_Template Ballistic Edge 15 \nDownload Training Application_Form_Ballistic Edge 15
URL:https://www.windhamweaponry.com/event/ar-15-m16-carbine-armorers-course-dyersburg-tn-2/
LOCATION:DYERSBURG POLICE DEPT\, 305 College St\, Dyersburg\, TN\, 38024\, United States
CATEGORIES:Armorer's Course
ORGANIZER;CN="Windham Weaponry":MAILTO:le@windhamweaponry.com
END:VEVENT
BEGIN:VEVENT
DTSTART;TZID=America/New_York:20220713T083000
DTEND;TZID=America/New_York:20220714T170000
DTSTAMP:20260425T101338
CREATED:20220321T150009Z
LAST-MODIFIED:20250118T221726Z
UID:24074-1657701000-1657818000@www.windhamweaponry.com
SUMMARY:AR-15/M16 CARBINE ARMORER’S COURSE - Dallas\, TX (CLASS FULL)
DESCRIPTION:July 13th-14th\, 2022 \nHosted By:\nDallas Veterans Affairs Medical Center\nDallas Recreation Bldg 75\nRoom SPA109-75-D\nDallas\, TX 75216 \nDownload Training Announcement_Template Ballistic Edge_2021 (2) \nDownload Training Application_Form_Ballistic Edge (2)
URL:https://www.windhamweaponry.com/event/ar-15-m16-carbine-armorers-course-dallas-tx/
LOCATION:Dallas Veterans Affairs Medical Center\, 4500 S Lancaster Rd\, Dallas\, TX\, 75216\, United States
CATEGORIES:Armorer's Course
ORGANIZER;CN="Windham Weaponry":MAILTO:le@windhamweaponry.com
END:VEVENT
BEGIN:VEVENT
DTSTART;TZID=America/New_York:20220602T083000
DTEND;TZID=America/New_York:20220603T170000
DTSTAMP:20260425T101338
CREATED:20220324T155923Z
LAST-MODIFIED:20220324T155923Z
UID:24079-1654158600-1654275600@www.windhamweaponry.com
SUMMARY:AR-15/M16 CARBINE ARMORER’S COURSE - Madison\, AL
DESCRIPTION:June 2nd-3rd\, 2022 \nHosted By:\nHuntsville Police Department \nDownload Training Announcement_Template Ballistic Edge_2021 (2) \nDownload Training Application_Form_Ballistic Edge (2)
URL:https://www.windhamweaponry.com/event/ar-15-m16-carbine-armorers-course-madison-al/
LOCATION:Huntsville Police Department\, 325 Wal Trianna Hwy\, Madison\, AL\, 35756\, United States
CATEGORIES:Armorer's Course
ORGANIZER;CN="Windham Weaponry":MAILTO:le@windhamweaponry.com
END:VEVENT
BEGIN:VEVENT
DTSTART;TZID=America/New_York:20220427T083000
DTEND;TZID=America/New_York:20220428T170000
DTSTAMP:20260425T101338
CREATED:20220315T140143Z
LAST-MODIFIED:20220315T140143Z
UID:24066-1651048200-1651165200@www.windhamweaponry.com
SUMMARY:AR-15/M16 CARBINE ARMORER’S COURSE - Lenexa\, KS
DESCRIPTION:April 27th-28th\, 2022 \nHosted By: Lenexa Kansas police Dept \nDownload Training Announcement_Template Ballistic Edge_2021 (2) \nDownload Training Application_Form_Ballistic Edge (2)
URL:https://www.windhamweaponry.com/event/ar-15-m16-carbine-armorers-course-lenexa-ks/
LOCATION:Lenexa Police Department\, 12500 West 87th Parkway\, Lenexa\, KS\, 66215\, United States
CATEGORIES:Armorer's Course
ORGANIZER;CN="Windham Weaponry":MAILTO:le@windhamweaponry.com
END:VEVENT
BEGIN:VEVENT
DTSTART;TZID=America/New_York:20220420T083000
DTEND;TZID=America/New_York:20220421T170000
DTSTAMP:20260425T101338
CREATED:20210909T152320Z
LAST-MODIFIED:20210909T152320Z
UID:23954-1650443400-1650560400@www.windhamweaponry.com
SUMMARY:AR-15/M16 CARBINE ARMORER’S COURSE - Crozier\, VA
DESCRIPTION:APRIL 20TH-21ST\, 2022 \nHosted By: Virginia Department of Corrections\nAcademy for Staff Development\n1900 River Road West\, Crozier\, VA 23039 \nDownload Training Announcement_Template Ballistic Edge VA \nDownload Training Application_Form_Ballistic Edge 15
URL:https://www.windhamweaponry.com/event/ar-15-m16-carbine-armorers-course-crozier-va-2/
LOCATION:Virginia Department of Corrections\, 1900 River Road West\, Crozier\, VA\, 23039\, United States
CATEGORIES:Armorer's Course
ORGANIZER;CN="Windham Weaponry":MAILTO:le@windhamweaponry.com
END:VEVENT
BEGIN:VEVENT
DTSTART;TZID=America/New_York:20220324T083000
DTEND;TZID=America/New_York:20220325T170000
DTSTAMP:20260425T101338
CREATED:20211108T151855Z
LAST-MODIFIED:20211108T151855Z
UID:23982-1648110600-1648227600@www.windhamweaponry.com
SUMMARY:AR-15/M16 CARBINE ARMORER’S COURSE - Blountville\, TN
DESCRIPTION:MARCH 24-25TH\, 2022 \nHosted By: SULLIVAN COUNTY SHERIFF’S OFFICE \nSCSO TRAINING CTR 229 Shipley Ferry Rd\, Blountville\, TN 37617 \nDownload Training Announcement_Template Ballistic Edge 15 \nDownload Training Application_Form_Ballistic Edge 15
URL:https://www.windhamweaponry.com/event/ar-15-m16-carbine-armorers-course-blountville-tn/
LOCATION:SULLIVAN COUNTY SHERIFF’S OFFICE\, 229 Shipley Ferry Rd\, Blountville\, TN\, 37617\, United States
CATEGORIES:Armorer's Course
ORGANIZER;CN="Windham Weaponry":MAILTO:le@windhamweaponry.com
END:VEVENT
BEGIN:VEVENT
DTSTART;TZID=America/New_York:20220307T083000
DTEND;TZID=America/New_York:20220308T170000
DTSTAMP:20260425T101338
CREATED:20220106T184852Z
LAST-MODIFIED:20220106T201522Z
UID:24026-1646641800-1646758800@www.windhamweaponry.com
SUMMARY:AR-15/M16 CARBINE ARMORER’S COURSE - Windham\, ME
DESCRIPTION:MARCH 7th-8th\, 2022 \nHosted By:\nWINDHAM INDOOR SHOOTING RANGE &\nWINDHAM WEAPONRY \nDownload Training Announcement_Template \nDownload Training Application Template
URL:https://www.windhamweaponry.com/event/ar-15-m16-carbine-armorers-course-windham-me-3/
LOCATION:Windham Indoor Shooting Range\, 999 Roosevelt Trail\, Windham\, ME\, 04062\, United States
CATEGORIES:Armorer's Course
ORGANIZER;CN="Windham Weaponry":MAILTO:le@windhamweaponry.com
END:VEVENT
BEGIN:VEVENT
DTSTART;TZID=America/New_York:20220301T083000
DTEND;TZID=America/New_York:20220302T170000
DTSTAMP:20260425T101338
CREATED:20211202T141843Z
LAST-MODIFIED:20211202T141843Z
UID:24004-1646123400-1646240400@www.windhamweaponry.com
SUMMARY:AR-15/M16 CARBINE ARMORER’S COURSE - DYERSBURG\, TN
DESCRIPTION:MARCH 1ST-2ND 2022 \nHosted By: DYERSBURG POLICE DEPT\nDYERSBURG\, TN \nDownload Training Announcement_Template Ballistic Edge 15 \nDownload Training Application_Form_Ballistic Edge 15
URL:https://www.windhamweaponry.com/event/ar-15-m16-carbine-armorers-course-dyersburg-tn/
LOCATION:DYERSBURG POLICE DEPT\, 305 College St\, Dyersburg\, TN\, 38024\, United States
CATEGORIES:Armorer's Course
ORGANIZER;CN="Windham Weaponry":MAILTO:le@windhamweaponry.com
END:VEVENT
BEGIN:VEVENT
DTSTART;TZID=America/New_York:20220224T083000
DTEND;TZID=America/New_York:20220225T170000
DTSTAMP:20260425T101338
CREATED:20211108T151425Z
LAST-MODIFIED:20220203T161333Z
UID:23978-1645691400-1645808400@www.windhamweaponry.com
SUMMARY:AR-15/M16 CARBINE ARMORER’S COURSE - Jenks\, OK (CLASS FULL)
DESCRIPTION:FEBRUARY 24-25\, 2022 \nHosted By: JENKS POLICE DEPT\n211 N Elm St\, Jenks OK 74037 \nDownload Training Announcement_Template Ballistic Edge 15 \nDownload Training Application_Form_Ballistic Edge 15
URL:https://www.windhamweaponry.com/event/ar-15-m16-carbine-armorers-course-jenks-ok/
LOCATION:JENKS POLICE DEPT\, 211 N Elm St\, Jenks\, OK\, 74037\, United States
CATEGORIES:Armorer's Course
ORGANIZER;CN="Windham Weaponry":MAILTO:le@windhamweaponry.com
END:VEVENT
BEGIN:VEVENT
DTSTART;TZID=America/New_York:20220221T083000
DTEND;TZID=America/New_York:20220222T170000
DTSTAMP:20260425T101338
CREATED:20211108T135517Z
LAST-MODIFIED:20211108T135517Z
UID:23975-1645432200-1645549200@www.windhamweaponry.com
SUMMARY:AR-15/M16 CARBINE ARMORER’S COURS - Hastings\, NE
DESCRIPTION:February 21st-22nd\, 2022 \nHosted By: Hastings Police Dept\n317 S Burlington Ave\, Hastings\, NE 68901 \nDownload Training Announcement_Template Ballistic Edge 15 \nDownload Training Application_Form_Ballistic Edge 15
URL:https://www.windhamweaponry.com/event/ar-15-m16-carbine-armorers-cours-hastings-ne/
LOCATION:Hastings Police Department\, 317 S. Burlington Avenue\, Hastings\, NE\, 68901\, United States
CATEGORIES:Armorer's Course
ORGANIZER;CN="Windham Weaponry":MAILTO:le@windhamweaponry.com
END:VEVENT
BEGIN:VEVENT
DTSTART;TZID=America/New_York:20220201T083000
DTEND;TZID=America/New_York:20220202T170000
DTSTAMP:20260425T101338
CREATED:20211108T134612Z
LAST-MODIFIED:20211108T134612Z
UID:23971-1643704200-1643821200@www.windhamweaponry.com
SUMMARY:AR-15/M16 CARBINE ARMORER’S COURSE - Cleveland\, TN
DESCRIPTION:FEBRUARY 1ST-2ND\,2022 \nHosted By:\nCLEVELAND POLICE DEPT\nCLEVELAND \, TN \nDownload Training Announcement_Template Ballistic Edge_2021 (2) \nDownload Training Application_Form_Ballistic Edge (2)
URL:https://www.windhamweaponry.com/event/ar-15-m16-carbine-armorers-course-cleveland-tn/
LOCATION:CLEVELAND POLICE DEPT\, 100 CHURCH ST NE\, CLEVELAND\, TN\, 37311\, United States
CATEGORIES:Armorer's Course
ORGANIZER;CN="Windham Weaponry":MAILTO:le@windhamweaponry.com
END:VEVENT
BEGIN:VEVENT
DTSTART;TZID=America/New_York:20220125T083000
DTEND;TZID=America/New_York:20220126T170000
DTSTAMP:20260425T101338
CREATED:20210909T134952Z
LAST-MODIFIED:20211006T171454Z
UID:23950-1643099400-1643216400@www.windhamweaponry.com
SUMMARY:AR-15/M16 CARBINE ARMORER’S COURSE - Stoughton \, MA (CLASS FULL)
DESCRIPTION:January 25th-26th \, 2022 \nHosted By:Stoughton Police Dept\nStoughton\,MA \nDownload Training Announcement_Template Ballistic Edge_2021 \nDownload Training Application_Form_Ballistic Edge
URL:https://www.windhamweaponry.com/event/ar-15-m16-carbine-armorers-course-stoughton-ma/
LOCATION:Stoughton Police Department\, 26 Rose Street\, Stoughton\, MA\, 02072\, United States
CATEGORIES:Armorer's Course
ORGANIZER;CN="Windham Weaponry":MAILTO:le@windhamweaponry.com
END:VEVENT
BEGIN:VEVENT
DTSTART;TZID=America/New_York:20211214T083000
DTEND;TZID=America/New_York:20211215T170000
DTSTAMP:20260425T101338
CREATED:20210329T172930Z
LAST-MODIFIED:20210329T172930Z
UID:23895-1639470600-1639587600@www.windhamweaponry.com
SUMMARY:AR-15/M16 CARBINE ARMORER’S COURSE - Murfreesboro\, TN
DESCRIPTION:December 14th-15th\, 2021 \nHosted By: Murfreesboro Police Department\nMurfreesboro\, TN \nDownload Training Announcement_Template Ballistic Edge10 7 \nDownload Training Application_Form_Ballistic Edge Crosier
URL:https://www.windhamweaponry.com/event/ar-15-m16-carbine-armorers-course-murfreesboro-tn/
LOCATION:Murfreesboro PD Community Room\, 1004 N Highland Ave\, Murfreesboro\, TN\, 37130\, United States
CATEGORIES:Armorer's Course
ORGANIZER;CN="Windham Weaponry":MAILTO:le@windhamweaponry.com
END:VEVENT
BEGIN:VEVENT
DTSTART;TZID=America/New_York:20211130T083000
DTEND;TZID=America/New_York:20211201T170000
DTSTAMP:20260425T101338
CREATED:20210827T173346Z
LAST-MODIFIED:20210827T173346Z
UID:23944-1638261000-1638378000@www.windhamweaponry.com
SUMMARY:AR-15/M16 CARBINE ARMORER’S COURSE - Alpharetta\, GA
DESCRIPTION:Nov 30-Dec 1 \, 2021 \nHosted By:\nCITY OF ROSWELL POLICE DEPARTMENT \nDownload Training Announcement_Roswell \, GA \nDownload Training Application Roswell\,GA
URL:https://www.windhamweaponry.com/event/ar-15-m16-carbine-armorers-course-alpharetta-ga/
LOCATION:ROSWELL ALPHARETTA PUBLIC SAFETY TRAINING CTR\, 11565 Maxwell Rd\, Alpharetta\, GA\, 30009\, United States
CATEGORIES:Armorer's Course
ORGANIZER;CN="Windham Weaponry":MAILTO:le@windhamweaponry.com
END:VEVENT
BEGIN:VEVENT
DTSTART;TZID=America/New_York:20211007T083000
DTEND;TZID=America/New_York:20211008T170000
DTSTAMP:20260425T101338
CREATED:20210629T125728Z
LAST-MODIFIED:20210629T125728Z
UID:23932-1633595400-1633712400@www.windhamweaponry.com
SUMMARY:AR-15/M16 CARBINE ARMORER’S COURSE - Amherst\, MA
DESCRIPTION:October 7th-8th\, 2021 \nHosted By: Umass Police Department \nDownload UMASS OCT 7-8 \nDownload Umass 0ct 7-8
URL:https://www.windhamweaponry.com/event/ar-15-m16-carbine-armorers-course-amherst-ma/
LOCATION:Umass PD Conference Room\, 585 East Pleasant St\, Amherst\, MA\, 01003\, United States
CATEGORIES:Armorer's Course
ORGANIZER;CN="Windham Weaponry":MAILTO:le@windhamweaponry.com
END:VEVENT
END:VCALENDAR