BEGIN:VCALENDAR
VERSION:2.0
PRODID:-//Windham Weaponry Inc. - ECPv6.15.17.1//NONSGML v1.0//EN
CALSCALE:GREGORIAN
METHOD:PUBLISH
X-WR-CALNAME:Windham Weaponry Inc.
X-ORIGINAL-URL:https://www.windhamweaponry.com
X-WR-CALDESC:Events for Windham Weaponry Inc.
REFRESH-INTERVAL;VALUE=DURATION:PT1H
X-Robots-Tag:noindex
X-PUBLISHED-TTL:PT1H
BEGIN:VTIMEZONE
TZID:America/New_York
BEGIN:DAYLIGHT
TZOFFSETFROM:-0500
TZOFFSETTO:-0400
TZNAME:EDT
DTSTART:20200308T070000
END:DAYLIGHT
BEGIN:STANDARD
TZOFFSETFROM:-0400
TZOFFSETTO:-0500
TZNAME:EST
DTSTART:20201101T060000
END:STANDARD
BEGIN:DAYLIGHT
TZOFFSETFROM:-0500
TZOFFSETTO:-0400
TZNAME:EDT
DTSTART:20210314T070000
END:DAYLIGHT
BEGIN:STANDARD
TZOFFSETFROM:-0400
TZOFFSETTO:-0500
TZNAME:EST
DTSTART:20211107T060000
END:STANDARD
BEGIN:DAYLIGHT
TZOFFSETFROM:-0500
TZOFFSETTO:-0400
TZNAME:EDT
DTSTART:20220313T070000
END:DAYLIGHT
BEGIN:STANDARD
TZOFFSETFROM:-0400
TZOFFSETTO:-0500
TZNAME:EST
DTSTART:20221106T060000
END:STANDARD
END:VTIMEZONE
BEGIN:VEVENT
DTSTART;TZID=America/New_York:20210707T083000
DTEND;TZID=America/New_York:20210708T170000
DTSTAMP:20260425T101138
CREATED:20210507T165836Z
LAST-MODIFIED:20210507T165836Z
UID:23903-1625646600-1625763600@www.windhamweaponry.com
SUMMARY:AR-15/M16 CARBINE ARMORER’S COURSE - Greenville\, TN
DESCRIPTION:July 7th-8th \, 2021 \nHosted By: Greenville Police Dept\, Greenville \, TN \nDownload Training Announcement_Template Ballistic Edge10 7 \nDownload Training Application_Form_Ballistic Edge
URL:https://www.windhamweaponry.com/event/ar-15-m16-carbine-armorers-course-greenville-tn/
LOCATION:Greene Cty. Range & Sports Complex\, 1435 Hal Henard Rd\, Greenville\, TN\, 37743\, United States
CATEGORIES:Armorer's Course
ORGANIZER;CN="Windham Weaponry":MAILTO:le@windhamweaponry.com
END:VEVENT
BEGIN:VEVENT
DTSTART;TZID=America/New_York:20210629T083000
DTEND;TZID=America/New_York:20210630T170000
DTSTAMP:20260425T101138
CREATED:20210330T125146Z
LAST-MODIFIED:20210330T125146Z
UID:23899-1624955400-1625072400@www.windhamweaponry.com
SUMMARY:AR-15/M16 CARBINE ARMORER’S COURSE - Franklin\, WI
DESCRIPTION:June 29th – 30th 2021 \nHosted By: Franklin Police Dept\,\nFranklin \, WI \nDownload Training Announcement_Template Ballistic Edge10 7 \nDownload Training Application_Form_Ballistic Edge Crosier
URL:https://www.windhamweaponry.com/event/ar-15-m16-carbine-armorers-course-franklin-wi/
LOCATION:Franklin Police Department\, 455 W Loomis Rd\, Franklin\, WI\, 53132\, United States
CATEGORIES:Armorer's Course
ORGANIZER;CN="Windham Weaponry":MAILTO:le@windhamweaponry.com
END:VEVENT
BEGIN:VEVENT
DTSTART;TZID=America/New_York:20210607T083000
DTEND;TZID=America/New_York:20210608T170000
DTSTAMP:20260425T101138
CREATED:20210222T145344Z
LAST-MODIFIED:20210222T145344Z
UID:23853-1623054600-1623171600@www.windhamweaponry.com
SUMMARY:AR-15/M16 CARBINE ARMORER’S COURSE - Collegedale\, TN
DESCRIPTION:JUNE 7TH-8TH \, 2021 \nHosted By: COLLEGEDALE POLICE DEPT \nDownload Training Announcement_Template Ballistic Edge 15 \nDownload Training Application_Form_Ballistic Edge
URL:https://www.windhamweaponry.com/event/ar-15-m16-carbine-armorers-course-collegedale-tn/
LOCATION:Collegedale Police Department\, 4910 Swinar Dr\, Collegedale\, TN\, 37363\, United States
CATEGORIES:Armorer's Course
ORGANIZER;CN="Windham Weaponry":MAILTO:le@windhamweaponry.com
END:VEVENT
BEGIN:VEVENT
DTSTART;TZID=America/New_York:20210428T083000
DTEND;TZID=America/New_York:20210429T170000
DTSTAMP:20260425T101138
CREATED:20210201T184427Z
LAST-MODIFIED:20210209T161008Z
UID:23813-1619598600-1619715600@www.windhamweaponry.com
SUMMARY:AR-15/M16 CARBINE ARMORER’S COURSE - Crozier\, VA
DESCRIPTION:April 28th – 29th\, 2021 \nHosted By: Virginia Department of Corrections\nAcademy for Staff Development\n1900 River Road West\, Crozier\, VA 23039 \nDownload Training Announcement_Template Ballistic Edge10 7 \nDownload Training Application_Form_Ballistic Edge Crozier
URL:https://www.windhamweaponry.com/event/ar-15-m16-carbine-armorers-course-crozier-va-7/
LOCATION:Virginia Department of Corrections\, 1900 River Road West\, Crozier\, VA\, 23039\, United States
CATEGORIES:Armorer's Course
ORGANIZER;CN="Windham Weaponry":MAILTO:le@windhamweaponry.com
END:VEVENT
BEGIN:VEVENT
DTSTART;TZID=America/New_York:20210420T083000
DTEND;TZID=America/New_York:20210421T170000
DTSTAMP:20260425T101138
CREATED:20210301T213035Z
LAST-MODIFIED:20210309T160722Z
UID:23863-1618907400-1619024400@www.windhamweaponry.com
SUMMARY:AR-15/M16 CARBINE ARMORER’S COURSE - Windham\, ME
DESCRIPTION:APRIL 20TH-21ST\, 2021 \nHosted By:\nWINDHAM INDOOR SHOOTING RANGE &\nWINDHAM WEAPONRY \nDownload Training Announcement_Template _WISR UPDATED 2020 \nDownload Training Application WISR
URL:https://www.windhamweaponry.com/event/ar-15-m16-carbine-armorers-course-windham-me/
LOCATION:Windham Indoor Shooting Range\, 999 Roosevelt Trail\, Windham\, ME\, 04062\, United States
CATEGORIES:Armorer's Course
ORGANIZER;CN="Windham Weaponry":MAILTO:le@windhamweaponry.com
END:VEVENT
BEGIN:VEVENT
DTSTART;TZID=America/New_York:20210408T083000
DTEND;TZID=America/New_York:20210409T170000
DTSTAMP:20260425T101138
CREATED:20210301T212707Z
LAST-MODIFIED:20241229T054010Z
UID:23859-1617870600-1617987600@www.windhamweaponry.com
SUMMARY:AR-15/M16 CARBINE ARMORER’S COURSE - Thornton\, NH
DESCRIPTION:April 8th-9th\, 2021 \nHosted By: Thornton Police Department \nDownload Training Announcement_Template Ballistic Edge10 7 \nDownload Training Application_Form_Ballistic Edge Crosier
URL:https://www.windhamweaponry.com/event/ar-15-m16-carbine-armorers-course-thornton-nh/
LOCATION:Owl’s Nest Resort & Golf Course\, 40 Clubhouse Ln\, Thornton\, NH\, 03285\, United States
CATEGORIES:Armorer's Course
ORGANIZER;CN="Windham Weaponry":MAILTO:le@windhamweaponry.com
END:VEVENT
BEGIN:VEVENT
DTSTART;TZID=America/New_York:20210405T083000
DTEND;TZID=America/New_York:20210406T170000
DTSTAMP:20260425T101138
CREATED:20210223T191909Z
LAST-MODIFIED:20210223T191909Z
UID:23857-1617611400-1617728400@www.windhamweaponry.com
SUMMARY:AR-15/M16 CARBINE ARMORER’S COURSE - Fairhaven\, MA
DESCRIPTION:April 5th-6th\, 2021 \nHosted By: Fairhaven Police Dept\n1 Bryant Ln\, Fairhaven \, MA 02719
URL:https://www.windhamweaponry.com/event/ar-15-m16-carbine-armorers-course-fairhaven-ma/
LOCATION:Fairhaven Police Department\, 1 Bryant Ln\, Fairhaven\, MA\, 02719\, United States
CATEGORIES:Armorer's Course
ORGANIZER;CN="Windham Weaponry":MAILTO:le@windhamweaponry.com
END:VEVENT
BEGIN:VEVENT
DTSTART;TZID=America/New_York:20210331T083000
DTEND;TZID=America/New_York:20210401T170000
DTSTAMP:20260425T101138
CREATED:20210201T185801Z
LAST-MODIFIED:20210301T213220Z
UID:23821-1617179400-1617296400@www.windhamweaponry.com
SUMMARY:AR-15/M16 CARBINE ARMORER’S COURSE- Voorhees\, NJ (CLASS FULL)
DESCRIPTION:CLASS FULL \nMARCH 31ST- APRIL 1ST\, 2021 \nHosted By: VOORHEES POLICE DEARTMENT\nVOORHEES\, NJ \nDownload Training Announcement_Template Ballistic Edge10 7 \nDownload Training Application_Form_Ballistic Edge
URL:https://www.windhamweaponry.com/event/ar-15-m16-carbine-armorers-course-voorhees-nj/
LOCATION:Voorhees Police Department\, 1180 White Horse Rd\, Voorhees\, NJ\, 08043\, United States
CATEGORIES:Armorer's Course
ORGANIZER;CN="Windham Weaponry":MAILTO:le@windhamweaponry.com
END:VEVENT
BEGIN:VEVENT
DTSTART;TZID=America/New_York:20210119T083000
DTEND;TZID=America/New_York:20210120T170000
DTSTAMP:20260425T101139
CREATED:20201222T182821Z
LAST-MODIFIED:20210209T163848Z
UID:23737-1611045000-1611162000@www.windhamweaponry.com
SUMMARY:AR-15/M16 CARBINE ARMORER’S COURSE - Windham\, ME
DESCRIPTION:JANUARY 19TH & 20TH 2021 \nHosted By:\nWINDHAM INDOOR SHOOTING RANGE &\nWINDHAM WEAPONRY \nDownload Training Announcement_Template _WISR UPDATED 2020 \nDownload Training Application Jan 19
URL:https://www.windhamweaponry.com/event/ar-15-m16-carbine-armorers-course-windham-me-7/
LOCATION:Windham Indoor Shooting Range\, 999 Roosevelt Trail\, Windham\, ME\, 04062\, United States
CATEGORIES:Armorer's Course
ORGANIZER;CN="Windham Weaponry":MAILTO:le@windhamweaponry.com
END:VEVENT
END:VCALENDAR