BEGIN:VCALENDAR
VERSION:2.0
PRODID:-//Windham Weaponry Inc. - ECPv6.15.17.1//NONSGML v1.0//EN
CALSCALE:GREGORIAN
METHOD:PUBLISH
X-WR-CALNAME:Windham Weaponry Inc.
X-ORIGINAL-URL:https://www.windhamweaponry.com
X-WR-CALDESC:Events for Windham Weaponry Inc.
REFRESH-INTERVAL;VALUE=DURATION:PT1H
X-Robots-Tag:noindex
X-PUBLISHED-TTL:PT1H
BEGIN:VTIMEZONE
TZID:America/New_York
BEGIN:DAYLIGHT
TZOFFSETFROM:-0500
TZOFFSETTO:-0400
TZNAME:EDT
DTSTART:20200308T070000
END:DAYLIGHT
BEGIN:STANDARD
TZOFFSETFROM:-0400
TZOFFSETTO:-0500
TZNAME:EST
DTSTART:20201101T060000
END:STANDARD
BEGIN:DAYLIGHT
TZOFFSETFROM:-0500
TZOFFSETTO:-0400
TZNAME:EDT
DTSTART:20210314T070000
END:DAYLIGHT
BEGIN:STANDARD
TZOFFSETFROM:-0400
TZOFFSETTO:-0500
TZNAME:EST
DTSTART:20211107T060000
END:STANDARD
BEGIN:DAYLIGHT
TZOFFSETFROM:-0500
TZOFFSETTO:-0400
TZNAME:EDT
DTSTART:20220313T070000
END:DAYLIGHT
BEGIN:STANDARD
TZOFFSETFROM:-0400
TZOFFSETTO:-0500
TZNAME:EST
DTSTART:20221106T060000
END:STANDARD
END:VTIMEZONE
BEGIN:VEVENT
DTSTART;TZID=America/New_York:20210119T083000
DTEND;TZID=America/New_York:20210120T170000
DTSTAMP:20260425T101016
CREATED:20201222T182821Z
LAST-MODIFIED:20210209T163848Z
UID:23737-1611045000-1611162000@www.windhamweaponry.com
SUMMARY:AR-15/M16 CARBINE ARMORER’S COURSE - Windham\, ME
DESCRIPTION:JANUARY 19TH & 20TH 2021 \nHosted By:\nWINDHAM INDOOR SHOOTING RANGE &\nWINDHAM WEAPONRY \nDownload Training Announcement_Template _WISR UPDATED 2020 \nDownload Training Application Jan 19
URL:https://www.windhamweaponry.com/event/ar-15-m16-carbine-armorers-course-windham-me-7/
LOCATION:Windham Indoor Shooting Range\, 999 Roosevelt Trail\, Windham\, ME\, 04062\, United States
CATEGORIES:Armorer's Course
ORGANIZER;CN="Windham Weaponry":MAILTO:le@windhamweaponry.com
END:VEVENT
END:VCALENDAR