BEGIN:VCALENDAR
VERSION:2.0
PRODID:-//Windham Weaponry Inc. - ECPv6.15.17.1//NONSGML v1.0//EN
CALSCALE:GREGORIAN
METHOD:PUBLISH
X-WR-CALNAME:Windham Weaponry Inc.
X-ORIGINAL-URL:https://www.windhamweaponry.com
X-WR-CALDESC:Events for Windham Weaponry Inc.
REFRESH-INTERVAL;VALUE=DURATION:PT1H
X-Robots-Tag:noindex
X-PUBLISHED-TTL:PT1H
BEGIN:VTIMEZONE
TZID:America/New_York
BEGIN:DAYLIGHT
TZOFFSETFROM:-0500
TZOFFSETTO:-0400
TZNAME:EDT
DTSTART:20250309T070000
END:DAYLIGHT
BEGIN:STANDARD
TZOFFSETFROM:-0400
TZOFFSETTO:-0500
TZNAME:EST
DTSTART:20251102T060000
END:STANDARD
BEGIN:DAYLIGHT
TZOFFSETFROM:-0500
TZOFFSETTO:-0400
TZNAME:EDT
DTSTART:20260308T070000
END:DAYLIGHT
BEGIN:STANDARD
TZOFFSETFROM:-0400
TZOFFSETTO:-0500
TZNAME:EST
DTSTART:20261101T060000
END:STANDARD
BEGIN:DAYLIGHT
TZOFFSETFROM:-0500
TZOFFSETTO:-0400
TZNAME:EDT
DTSTART:20270314T070000
END:DAYLIGHT
BEGIN:STANDARD
TZOFFSETFROM:-0400
TZOFFSETTO:-0500
TZNAME:EST
DTSTART:20271107T060000
END:STANDARD
END:VTIMEZONE
BEGIN:VEVENT
DTSTART;TZID=America/New_York:20260722T083000
DTEND;TZID=America/New_York:20260722T170000
DTSTAMP:20260424T180845
CREATED:20260302T221249Z
LAST-MODIFIED:20260302T221249Z
UID:23873-1784709000-1784739600@www.windhamweaponry.com
SUMMARY:AR-15/M16 CARBINE ARMORER’S COURSE - Veteran's Affairs Police Service\, Dallas\, TX- JUL. 22-23\, 2026
DESCRIPTION:Introduction: \nThis is the premier course in the United States. It sets the benchmark certification forthe industry and is designed for the professional who wants the designation of AR-15/M16 Armorer. The course covers the AR-15/M16 platforms and provides instruction on how to diagnose and repair malfunctions\, return firearms to military specs\, perform function inspections\, check headspace and more.\nArmorer training classes are a mixture of classroom instruction and hands-on exercises\, enabling each student to achieve a high degree of familiarity with the topics covered. Class begins at 08:30 hours.\nUpon completion\, graduates will be able to repair and maintain the AR-15/M16 platform to military specifications. They will be issued a three-year certification\, and receive one-on-one Ballistic Edge\nSpecialized Training phone and/or e-mail support. \nPrerequisite: \nBasic knowledge of AR platform operation. \nQualifications for the Class: \nMust be active in Law Enforcement\, or covered under HR218\, or possess a current Concealed Carry Permit\, or have a current FFL\, or work for a business that holds a current FFL. \nGear Requirements: \nNone – all weapons and armorer’s tools will be provided \n____________________________________________________________________________ \nTo Register for the AR-15/M16 CARBINE ARMORER’S COURSE – Veteran’s Affairs Police Service\, Dallas\, TX- JUL. 22-23\, 2026 class fill out the form and send it to glee@windhamweaponry.com\nLaw Enforcement Division Instructor : Greg Lee\nPhone: +1 (615) 482-2808‬\nEmail: glee@windhamweaponry.com
URL:https://www.windhamweaponry.com/event/ar-15-m16-carbine-armorers-course-veterans-affairs-police-service-dallas-tx-jul-22-23-2026/
LOCATION:Veteran’s Affairs Police Service\, Dallas\, TX\, Dallas VA Medical Center 4500 S Lancaster Road Dallas\, Dallas\, TX\, 75216\, United States
ATTACH;FMTTYPE=image/jpeg:https://www.windhamweaponry.com/wp-content/uploads/2026/03/ARMORERS-COURSE-Jul-22-23-2026.jpg
ORGANIZER;CN="Ballistic Edge Specialized Training%2C LLC":MAILTO:ballisticedgest@gmail.com
END:VEVENT
END:VCALENDAR